BEGIN:VCALENDAR
PRODID:-//github.com/rianjs/ical.net//NONSGML ical.net 4.0//EN
VERSION:2.0
BEGIN:VTIMEZONE
TZID:Pacific Standard Time
X-LIC-LOCATION:America/Los_Angeles
BEGIN:STANDARD
DTSTART:20241103T020000
RRULE:FREQ=YEARLY;BYDAY=1SU;BYMONTH=11
TZNAME:PST
TZOFFSETFROM:-0700
TZOFFSETTO:-0800
END:STANDARD
BEGIN:DAYLIGHT
DTSTART:20250309T020000
RRULE:FREQ=YEARLY;BYDAY=2SU;BYMONTH=3
TZNAME:PDT
TZOFFSETFROM:-0800
TZOFFSETTO:-0700
END:DAYLIGHT
END:VTIMEZONE
BEGIN:VEVENT
DESCRIPTION:2022 Annual Meeting by the American Academy of Neurology\n\nTi
 tle: Prior Authorizations – Everything You Need to Know and Now Will\n\nA
 ccess URL: https://www.aan.com/msa/Public/Events/GetEventURL/14796\n\nLea
 rn More About This Event: https://www.aan.com/msa/Public/Events/Details/1
 4796
DTEND;TZID=Pacific Standard Time:22020403T123000
DTSTAMP:20260424T054134Z
DTSTART;TZID=Pacific Standard Time:20220403T120000
LOCATION:https://www.aan.com/msa/Public/Events/GetEventURL/14796
SEQUENCE:0
SUMMARY:AAN: Prior Authorizations – Everything You Need to Know and Now Wi
 ll
UID:6848d87d-5a86-4652-b77d-a32b72116cb3
END:VEVENT
END:VCALENDAR
