BEGIN:VCALENDAR
PRODID:-//github.com/rianjs/ical.net//NONSGML ical.net 4.0//EN
VERSION:2.0
BEGIN:VTIMEZONE
TZID:Pacific Standard Time
X-LIC-LOCATION:America/Los_Angeles
BEGIN:STANDARD
DTSTART:20241103T020000
RRULE:FREQ=YEARLY;BYDAY=1SU;BYMONTH=11
TZNAME:PST
TZOFFSETFROM:-0700
TZOFFSETTO:-0800
END:STANDARD
BEGIN:DAYLIGHT
DTSTART:20250309T020000
RRULE:FREQ=YEARLY;BYDAY=2SU;BYMONTH=3
TZNAME:PDT
TZOFFSETFROM:-0800
TZOFFSETTO:-0700
END:DAYLIGHT
END:VTIMEZONE
BEGIN:VEVENT
DESCRIPTION:2022 Annual Meeting by the American Academy of Neurology\n\nTi
 tle: Health Care Disparities in Neurologic Care: Without the Data We Can’
 t Improve\n\nAccess URL: https://www.aan.com/msa/Public/Events/GetEventUR
 L/14798\n\nLearn More About This Event: https://www.aan.com/msa/Public/Ev
 ents/Details/14798
DTEND;TZID=Pacific Standard Time:20220403T140000
DTSTAMP:20260424T054219Z
DTSTART;TZID=Pacific Standard Time:20220403T130000
LOCATION:https://www.aan.com/msa/Public/Events/GetEventURL/14798
SEQUENCE:0
SUMMARY:AAN: Health Care Disparities in Neurologic Care: Without the Data 
 We Can’t Improve
UID:c36e8f21-06e1-49f8-a134-6db0240666f5
END:VEVENT
END:VCALENDAR
