BEGIN:VCALENDAR
PRODID:-//github.com/rianjs/ical.net//NONSGML ical.net 4.0//EN
VERSION:2.0
BEGIN:VTIMEZONE
TZID:Pacific Standard Time
X-LIC-LOCATION:America/Los_Angeles
BEGIN:STANDARD
DTSTART:20241103T020000
RRULE:FREQ=YEARLY;BYDAY=1SU;BYMONTH=11
TZNAME:PST
TZOFFSETFROM:-0700
TZOFFSETTO:-0800
END:STANDARD
BEGIN:DAYLIGHT
DTSTART:20250309T020000
RRULE:FREQ=YEARLY;BYDAY=2SU;BYMONTH=3
TZNAME:PDT
TZOFFSETFROM:-0800
TZOFFSETTO:-0700
END:DAYLIGHT
END:VTIMEZONE
BEGIN:VEVENT
DESCRIPTION:2022 Annual Meeting by the American Academy of Neurology\n\nTi
 tle:  Managing Team Member Conflict as a Leader \n\nAccess URL: https://w
 ww.aan.com/msa/Public/Events/GetEventURL/14808\n\nLearn More About This E
 vent: https://www.aan.com/msa/Public/Events/Details/14808
DTEND;TZID=Pacific Standard Time:20220405T123000
DTSTAMP:20260424T082620Z
DTSTART;TZID=Pacific Standard Time:20220405T120000
LOCATION:https://www.aan.com/msa/Public/Events/GetEventURL/14808
SEQUENCE:0
SUMMARY:AAN:  Managing Team Member Conflict as a Leader
UID:098ed512-47f8-462a-a425-dc1b821c8a49
END:VEVENT
END:VCALENDAR
