BEGIN:VCALENDAR
PRODID:-//github.com/rianjs/ical.net//NONSGML ical.net 4.0//EN
VERSION:2.0
BEGIN:VTIMEZONE
TZID:Pacific Standard Time
X-LIC-LOCATION:America/Los_Angeles
BEGIN:STANDARD
DTSTART:20241103T020000
RRULE:FREQ=YEARLY;BYDAY=1SU;BYMONTH=11
TZNAME:PST
TZOFFSETFROM:-0700
TZOFFSETTO:-0800
END:STANDARD
BEGIN:DAYLIGHT
DTSTART:20250309T020000
RRULE:FREQ=YEARLY;BYDAY=2SU;BYMONTH=3
TZNAME:PDT
TZOFFSETFROM:-0800
TZOFFSETTO:-0700
END:DAYLIGHT
END:VTIMEZONE
BEGIN:VEVENT
DESCRIPTION:2022 Annual Meeting by the American Academy of Neurology\n\nTi
 tle: What Your Practice Administrator Wants You to Know \n\nAccess URL: h
 ttps://www.aan.com/msa/Public/Events/GetEventURL/14809\n\nLearn More Abou
 t This Event: https://www.aan.com/msa/Public/Events/Details/14809
DTEND;TZID=Pacific Standard Time:20220404T130000
DTSTAMP:20260424T054004Z
DTSTART;TZID=Pacific Standard Time:20220404T120000
LOCATION:https://www.aan.com/msa/Public/Events/GetEventURL/14809
SEQUENCE:0
SUMMARY:AAN: What Your Practice Administrator Wants You to Know
UID:82aa4feb-e2cd-4b8b-b53a-7dd7fdab91a4
END:VEVENT
END:VCALENDAR
