BEGIN:VCALENDAR
PRODID:-//github.com/rianjs/ical.net//NONSGML ical.net 4.0//EN
VERSION:2.0
BEGIN:VTIMEZONE
TZID:Pacific Standard Time
X-LIC-LOCATION:America/Los_Angeles
BEGIN:STANDARD
DTSTART:20241103T020000
RRULE:FREQ=YEARLY;BYDAY=1SU;BYMONTH=11
TZNAME:PST
TZOFFSETFROM:-0700
TZOFFSETTO:-0800
END:STANDARD
BEGIN:DAYLIGHT
DTSTART:20250309T020000
RRULE:FREQ=YEARLY;BYDAY=2SU;BYMONTH=3
TZNAME:PDT
TZOFFSETFROM:-0800
TZOFFSETTO:-0700
END:DAYLIGHT
END:VTIMEZONE
BEGIN:VEVENT
DESCRIPTION:2022 Annual Meeting by the American Academy of Neurology\n\nTi
 tle: Making Your Clinical Documentation Work for You\n\nAccess URL: https
 ://www.aan.com/msa/Public/Events/GetEventURL/14810\n\nLearn More About Th
 is Event: https://www.aan.com/msa/Public/Events/Details/14810
DTEND;TZID=Pacific Standard Time:20220404T142000
DTSTAMP:20260424T054034Z
DTSTART;TZID=Pacific Standard Time:20220404T132000
LOCATION:https://www.aan.com/msa/Public/Events/GetEventURL/14810
SEQUENCE:0
SUMMARY:AAN: Making Your Clinical Documentation Work for You
UID:a727192f-3701-4647-b3b2-17953f1e6ad2
END:VEVENT
END:VCALENDAR
