BEGIN:VCALENDAR
PRODID:-//github.com/rianjs/ical.net//NONSGML ical.net 4.0//EN
VERSION:2.0
BEGIN:VTIMEZONE
TZID:Pacific Standard Time
X-LIC-LOCATION:America/Los_Angeles
BEGIN:STANDARD
DTSTART:20241103T020000
RRULE:FREQ=YEARLY;BYDAY=1SU;BYMONTH=11
TZNAME:PST
TZOFFSETFROM:-0700
TZOFFSETTO:-0800
END:STANDARD
BEGIN:DAYLIGHT
DTSTART:20250309T020000
RRULE:FREQ=YEARLY;BYDAY=2SU;BYMONTH=3
TZNAME:PDT
TZOFFSETFROM:-0800
TZOFFSETTO:-0700
END:DAYLIGHT
END:VTIMEZONE
BEGIN:VEVENT
DESCRIPTION:2022 Annual Meeting by the American Academy of Neurology\n\nTi
 tle: Productivity: How Much Is Too Much\n\nAccess URL: https://www.aan.co
 m/msa/Public/Events/GetEventURL/14817\n\nLearn More About This Event: htt
 ps://www.aan.com/msa/Public/Events/Details/14817
DTEND;TZID=Pacific Standard Time:20220405T153000
DTSTAMP:20260424T054104Z
DTSTART;TZID=Pacific Standard Time:20220405T150000
LOCATION:https://www.aan.com/msa/Public/Events/GetEventURL/14817
SEQUENCE:0
SUMMARY:AAN: Productivity: How Much Is Too Much
UID:9a3f590e-fa5b-4bc8-97a3-17b438f941a9
END:VEVENT
END:VCALENDAR
