BEGIN:VCALENDAR
PRODID:-//github.com/rianjs/ical.net//NONSGML ical.net 4.0//EN
VERSION:2.0
BEGIN:VTIMEZONE
TZID:Pacific Standard Time
X-LIC-LOCATION:America/Los_Angeles
BEGIN:STANDARD
DTSTART:20241103T020000
RRULE:FREQ=YEARLY;BYDAY=1SU;BYMONTH=11
TZNAME:PST
TZOFFSETFROM:-0700
TZOFFSETTO:-0800
END:STANDARD
BEGIN:DAYLIGHT
DTSTART:20250309T020000
RRULE:FREQ=YEARLY;BYDAY=2SU;BYMONTH=3
TZNAME:PDT
TZOFFSETFROM:-0800
TZOFFSETTO:-0700
END:DAYLIGHT
END:VTIMEZONE
BEGIN:VEVENT
DESCRIPTION:2022 Annual Meeting by the American Academy of Neurology\n\nTi
 tle: From Physician to Leader: Optimizing Emotional and Conversational In
 telligence \n\nAccess URL: https://www.aan.com/msa/Public/Events/GetEvent
 URL/14831\n\nLearn More About This Event: https://www.aan.com/msa/Public/
 Events/Details/14831
DTEND;TZID=Pacific Standard Time:20220402T154500
DTSTAMP:20260424T054036Z
DTSTART;TZID=Pacific Standard Time:20220402T150000
LOCATION:https://www.aan.com/msa/Public/Events/GetEventURL/14831
SEQUENCE:0
SUMMARY:AAN: From Physician to Leader: Optimizing Emotional and Conversati
 onal Intelligence
UID:bf4607fd-f54f-4f9f-861f-e22e773b186b
END:VEVENT
END:VCALENDAR
