BEGIN:VCALENDAR
PRODID:-//github.com/rianjs/ical.net//NONSGML ical.net 4.0//EN
VERSION:2.0
BEGIN:VTIMEZONE
TZID:Pacific Standard Time
X-LIC-LOCATION:America/Los_Angeles
BEGIN:STANDARD
DTSTART:20241103T020000
RRULE:FREQ=YEARLY;BYDAY=1SU;BYMONTH=11
TZNAME:PST
TZOFFSETFROM:-0700
TZOFFSETTO:-0800
END:STANDARD
BEGIN:DAYLIGHT
DTSTART:20250309T020000
RRULE:FREQ=YEARLY;BYDAY=2SU;BYMONTH=3
TZNAME:PDT
TZOFFSETFROM:-0800
TZOFFSETTO:-0700
END:DAYLIGHT
END:VTIMEZONE
BEGIN:VEVENT
DESCRIPTION:2022 Annual Meeting by the American Academy of Neurology\n\nTi
 tle: A Blueprint for Advanced Practice Providers in an Academic Neurology
  Practice\n\nAccess URL: https://www.aan.com/msa/Public/Events/GetEventUR
 L/14859\n\nLearn More About This Event: https://www.aan.com/msa/Public/Ev
 ents/Details/14859
DTEND;TZID=Pacific Standard Time:20220404T084500
DTSTAMP:20260424T054036Z
DTSTART;TZID=Pacific Standard Time:20220404T080000
LOCATION:https://www.aan.com/msa/Public/Events/GetEventURL/14859
SEQUENCE:0
SUMMARY:AAN: A Blueprint for Advanced Practice Providers in an Academic Ne
 urology Practice
UID:2a071c56-68c5-42cd-8893-e5fcaaf0a314
END:VEVENT
END:VCALENDAR
