BEGIN:VCALENDAR
PRODID:-//github.com/rianjs/ical.net//NONSGML ical.net 4.0//EN
VERSION:2.0
BEGIN:VTIMEZONE
TZID:Pacific Standard Time
X-LIC-LOCATION:America/Los_Angeles
BEGIN:STANDARD
DTSTART:20241103T020000
RRULE:FREQ=YEARLY;BYDAY=1SU;BYMONTH=11
TZNAME:PST
TZOFFSETFROM:-0700
TZOFFSETTO:-0800
END:STANDARD
BEGIN:DAYLIGHT
DTSTART:20250309T020000
RRULE:FREQ=YEARLY;BYDAY=2SU;BYMONTH=3
TZNAME:PDT
TZOFFSETFROM:-0800
TZOFFSETTO:-0700
END:DAYLIGHT
END:VTIMEZONE
BEGIN:VEVENT
DESCRIPTION:2022 Annual Meeting by the American Academy of Neurology\n\nTi
 tle: "Genius is Talent on Fire": Finding the Talent\, Nurturing Genius\n\
 nAccess URL: https://www.aan.com/msa/Public/Events/GetEventURL/14867\n\nL
 earn More About This Event: https://www.aan.com/msa/Public/Events/Details
 /14867
DTEND;TZID=Pacific Standard Time:20220407T134500
DTSTAMP:20260424T054102Z
DTSTART;TZID=Pacific Standard Time:20220407T130000
LOCATION:https://www.aan.com/msa/Public/Events/GetEventURL/14867
SEQUENCE:0
SUMMARY:AAN: "Genius is Talent on Fire": Finding the Talent\, Nurturing Ge
 nius
UID:a1d8338e-00bc-46e6-a3ad-d77d71446cfb
END:VEVENT
END:VCALENDAR
