BEGIN:VCALENDAR
PRODID:-//github.com/rianjs/ical.net//NONSGML ical.net 4.0//EN
VERSION:2.0
BEGIN:VTIMEZONE
TZID:Pacific Standard Time
X-LIC-LOCATION:America/Los_Angeles
BEGIN:STANDARD
DTSTART:20241103T020000
RRULE:FREQ=YEARLY;BYDAY=1SU;BYMONTH=11
TZNAME:PST
TZOFFSETFROM:-0700
TZOFFSETTO:-0800
END:STANDARD
BEGIN:DAYLIGHT
DTSTART:20250309T020000
RRULE:FREQ=YEARLY;BYDAY=2SU;BYMONTH=3
TZNAME:PDT
TZOFFSETFROM:-0800
TZOFFSETTO:-0700
END:DAYLIGHT
END:VTIMEZONE
BEGIN:VEVENT
DESCRIPTION:2022 Annual Meeting by the American Academy of Neurology\n\nTi
 tle: Geisinger Neurology Alumni Reception\n\nDescription: The Geisinger N
 eurology Alumni Reception is an event to have past and present trainees t
 o come together during the AAN annual meeting and reconnect with faculty 
 and staff  from their training.\n\nLearn More About This Event: https://w
 ww.aan.com/msa/Public/Events/Details/14868
DTEND;TZID=Pacific Standard Time:20220405T193000
DTSTAMP:20260424T054003Z
DTSTART;TZID=Pacific Standard Time:20220405T180000
LOCATION:https://www.aan.com/msa/Public/Events/GetEventURL/14868
SEQUENCE:0
SUMMARY:AAN: Geisinger Neurology Alumni Reception
UID:9095803b-7bbc-4129-82a0-5ec79a3b2575
END:VEVENT
END:VCALENDAR
