BEGIN:VCALENDAR
PRODID:-//github.com/rianjs/ical.net//NONSGML ical.net 4.0//EN
VERSION:2.0
BEGIN:VTIMEZONE
TZID:Pacific Standard Time
X-LIC-LOCATION:America/Los_Angeles
BEGIN:STANDARD
DTSTART:20241103T020000
RRULE:FREQ=YEARLY;BYDAY=1SU;BYMONTH=11
TZNAME:PST
TZOFFSETFROM:-0700
TZOFFSETTO:-0800
END:STANDARD
BEGIN:DAYLIGHT
DTSTART:20250309T020000
RRULE:FREQ=YEARLY;BYDAY=2SU;BYMONTH=3
TZNAME:PDT
TZOFFSETFROM:-0800
TZOFFSETTO:-0700
END:DAYLIGHT
END:VTIMEZONE
BEGIN:VEVENT
DESCRIPTION:2022 Annual Meeting by the American Academy of Neurology\n\nTi
 tle: Coordinator Roles\, Time Management\, & Best Practices\n\nAccess URL
 : https://www.aan.com/msa/Public/Events/GetEventURL/14916\n\nLearn More A
 bout This Event: https://www.aan.com/msa/Public/Events/Details/14916
DTEND;TZID=Pacific Standard Time:20220402T150000
DTSTAMP:20260424T054001Z
DTSTART;TZID=Pacific Standard Time:20220402T140000
LOCATION:https://www.aan.com/msa/Public/Events/GetEventURL/14916
SEQUENCE:0
SUMMARY:AAN: Coordinator Roles\, Time Management\, & Best Practices
UID:f150d48a-cc28-4f27-98e5-5bd60397a458
END:VEVENT
END:VCALENDAR
