BEGIN:VCALENDAR
PRODID:-//github.com/rianjs/ical.net//NONSGML ical.net 4.0//EN
VERSION:2.0
BEGIN:VTIMEZONE
TZID:Pacific Standard Time
X-LIC-LOCATION:America/Los_Angeles
BEGIN:STANDARD
DTSTART:20241103T020000
RRULE:FREQ=YEARLY;BYDAY=1SU;BYMONTH=11
TZNAME:PST
TZOFFSETFROM:-0700
TZOFFSETTO:-0800
END:STANDARD
BEGIN:DAYLIGHT
DTSTART:20250309T020000
RRULE:FREQ=YEARLY;BYDAY=2SU;BYMONTH=3
TZNAME:PDT
TZOFFSETFROM:-0800
TZOFFSETTO:-0700
END:DAYLIGHT
END:VTIMEZONE
BEGIN:VEVENT
DESCRIPTION:2022 Annual Meeting by the American Academy of Neurology\n\nTi
 tle: AAN Leadership Programs\n\nAccess URL: https://www.aan.com/msa/Publi
 c/Events/GetEventURL/14930\n\nLearn More About This Event: https://www.aa
 n.com/msa/Public/Events/Details/14930
DTEND;TZID=Pacific Standard Time:20220403T173000
DTSTAMP:20260424T053921Z
DTSTART;TZID=Pacific Standard Time:20220403T170000
LOCATION:https://www.aan.com/msa/Public/Events/GetEventURL/14930
SEQUENCE:0
SUMMARY:AAN: AAN Leadership Programs
UID:94ac8ecf-b26a-45d6-8cc0-1ef1965631c2
END:VEVENT
END:VCALENDAR
