BEGIN:VCALENDAR
PRODID:-//github.com/rianjs/ical.net//NONSGML ical.net 4.0//EN
VERSION:2.0
BEGIN:VTIMEZONE
TZID:Pacific Standard Time
X-LIC-LOCATION:America/Los_Angeles
BEGIN:STANDARD
DTSTART:20241103T020000
RRULE:FREQ=YEARLY;BYDAY=1SU;BYMONTH=11
TZNAME:PST
TZOFFSETFROM:-0700
TZOFFSETTO:-0800
END:STANDARD
BEGIN:DAYLIGHT
DTSTART:20250309T020000
RRULE:FREQ=YEARLY;BYDAY=2SU;BYMONTH=3
TZNAME:PDT
TZOFFSETFROM:-0800
TZOFFSETTO:-0700
END:DAYLIGHT
END:VTIMEZONE
BEGIN:VEVENT
DESCRIPTION:2022 Annual Meeting by the American Academy of Neurology\n\nTi
 tle: Career planning as an International Medical Graduate (IMG): Navigati
 ng the Black Box of Visas\n\nAccess URL: https://www.aan.com/msa/Public/E
 vents/GetEventURL/14995\n\nLearn More About This Event: https://www.aan.c
 om/msa/Public/Events/Details/14995
DTEND;TZID=Pacific Standard Time:20220407T090000
DTSTAMP:20260424T054135Z
DTSTART;TZID=Pacific Standard Time:20220407T080000
LOCATION:https://www.aan.com/msa/Public/Events/GetEventURL/14995
SEQUENCE:0
SUMMARY:AAN: Career planning as an International Medical Graduate (IMG): N
 avigating the Black Box of Visas
UID:302b8ebf-224a-4a90-be99-3a7ea5d2cb98
END:VEVENT
END:VCALENDAR
