BEGIN:VCALENDAR
PRODID:-//github.com/rianjs/ical.net//NONSGML ical.net 4.0//EN
VERSION:2.0
BEGIN:VTIMEZONE
TZID:Pacific Standard Time
X-LIC-LOCATION:America/Los_Angeles
BEGIN:STANDARD
DTSTART:20241103T020000
RRULE:FREQ=YEARLY;BYDAY=1SU;BYMONTH=11
TZNAME:PST
TZOFFSETFROM:-0700
TZOFFSETTO:-0800
END:STANDARD
BEGIN:DAYLIGHT
DTSTART:20250309T020000
RRULE:FREQ=YEARLY;BYDAY=2SU;BYMONTH=3
TZNAME:PDT
TZOFFSETFROM:-0800
TZOFFSETTO:-0700
END:DAYLIGHT
END:VTIMEZONE
BEGIN:VEVENT
DESCRIPTION:2022 Annual Meeting by the American Academy of Neurology\n\nTi
 tle: Perspective Changer—LGBTQI Inclusive Care in Neurology\n\nAccess URL
 : https://www.aan.com/msa/Public/Events/GetEventURL/15024\n\nLearn More A
 bout This Event: https://www.aan.com/msa/Public/Events/Details/15024
DTEND;TZID=Pacific Standard Time:20220405T090000
DTSTAMP:20260424T054033Z
DTSTART;TZID=Pacific Standard Time:20220405T080000
LOCATION:https://www.aan.com/msa/Public/Events/GetEventURL/15024
SEQUENCE:0
SUMMARY:AAN: Perspective Changer—LGBTQI Inclusive Care in Neurology
UID:5d0acedc-d8b6-442a-9e93-c3590143af26
END:VEVENT
END:VCALENDAR
