BEGIN:VCALENDAR
PRODID:-//github.com/rianjs/ical.net//NONSGML ical.net 4.0//EN
VERSION:2.0
BEGIN:VTIMEZONE
TZID:Pacific Standard Time
X-LIC-LOCATION:America/Los_Angeles
BEGIN:STANDARD
DTSTART:20241103T020000
RRULE:FREQ=YEARLY;BYDAY=1SU;BYMONTH=11
TZNAME:PST
TZOFFSETFROM:-0700
TZOFFSETTO:-0800
END:STANDARD
BEGIN:DAYLIGHT
DTSTART:20250309T020000
RRULE:FREQ=YEARLY;BYDAY=2SU;BYMONTH=3
TZNAME:PDT
TZOFFSETFROM:-0800
TZOFFSETTO:-0700
END:DAYLIGHT
END:VTIMEZONE
BEGIN:VEVENT
DESCRIPTION:2022 Annual Meeting by the American Academy of Neurology\n\nTi
 tle: Program Coordinators: Clerkship Certification and Coordinator Career
  Advancement: Leadership Qualities for Effective Coordinators Pt. 1\n\nAc
 cess URL: https://www.aan.com/msa/Public/Events/GetEventURL/15032\n\nLear
 n More About This Event: https://www.aan.com/msa/Public/Events/Details/15
 032
DTEND;TZID=Pacific Standard Time:20220403T090000
DTSTAMP:20260424T053954Z
DTSTART;TZID=Pacific Standard Time:20220403T080000
LOCATION:https://www.aan.com/msa/Public/Events/GetEventURL/15032
SEQUENCE:0
SUMMARY:AAN: Program Coordinators: Clerkship Certification and Coordinator
  Career Advancement: Leadership Qualities for Effective Coordinators Pt. 
 1
UID:b3947746-f303-4134-ac15-50713eaaf44a
END:VEVENT
END:VCALENDAR
