BEGIN:VCALENDAR
PRODID:-//github.com/rianjs/ical.net//NONSGML ical.net 4.0//EN
VERSION:2.0
BEGIN:VTIMEZONE
TZID:Pacific Standard Time
X-LIC-LOCATION:America/Los_Angeles
BEGIN:STANDARD
DTSTART:20241103T020000
RRULE:FREQ=YEARLY;BYDAY=1SU;BYMONTH=11
TZNAME:PST
TZOFFSETFROM:-0700
TZOFFSETTO:-0800
END:STANDARD
BEGIN:DAYLIGHT
DTSTART:20250309T020000
RRULE:FREQ=YEARLY;BYDAY=2SU;BYMONTH=3
TZNAME:PDT
TZOFFSETFROM:-0800
TZOFFSETTO:-0700
END:DAYLIGHT
END:VTIMEZONE
BEGIN:VEVENT
DESCRIPTION:2022 Annual Meeting by the American Academy of Neurology\n\nTi
 tle: Program Coordinator: Academic Year Guide & Tasks & Data Tracking Met
 hods\n\nAccess URL: https://www.aan.com/msa/Public/Events/GetEventURL/150
 35\n\nLearn More About This Event: https://www.aan.com/msa/Public/Events/
 Details/15035
DTEND;TZID=Pacific Standard Time:20220403T103000
DTSTAMP:20260424T054036Z
DTSTART;TZID=Pacific Standard Time:20220403T093000
LOCATION:https://www.aan.com/msa/Public/Events/GetEventURL/15035
SEQUENCE:0
SUMMARY:AAN: Program Coordinator: Academic Year Guide & Tasks & Data Track
 ing Methods
UID:860aff4b-5b37-4dd7-aa59-4d6ba72322ae
END:VEVENT
END:VCALENDAR
