BEGIN:VCALENDAR
PRODID:-//github.com/rianjs/ical.net//NONSGML ical.net 4.0//EN
VERSION:2.0
BEGIN:VTIMEZONE
TZID:Pacific Standard Time
X-LIC-LOCATION:America/Los_Angeles
BEGIN:STANDARD
DTSTART:20241103T020000
RRULE:FREQ=YEARLY;BYDAY=1SU;BYMONTH=11
TZNAME:PST
TZOFFSETFROM:-0700
TZOFFSETTO:-0800
END:STANDARD
BEGIN:DAYLIGHT
DTSTART:20250309T020000
RRULE:FREQ=YEARLY;BYDAY=2SU;BYMONTH=3
TZNAME:PDT
TZOFFSETFROM:-0800
TZOFFSETTO:-0700
END:DAYLIGHT
END:VTIMEZONE
BEGIN:VEVENT
DESCRIPTION:2022 Annual Meeting by the American Academy of Neurology\n\nTi
 tle: Building a Successful Program Director and Program Coordinator Team\
 n\nAccess URL: https://www.aan.com/msa/Public/Events/GetEventURL/15037\n\
 nLearn More About This Event: https://www.aan.com/msa/Public/Events/Detai
 ls/15037
DTEND;TZID=Pacific Standard Time:20220404T120000
DTSTAMP:20260424T054103Z
DTSTART;TZID=Pacific Standard Time:20220404T110000
LOCATION:https://www.aan.com/msa/Public/Events/GetEventURL/15037
SEQUENCE:0
SUMMARY:AAN: Building a Successful Program Director and Program Coordinato
 r Team
UID:68544bd4-a6ef-4037-b777-8282a3013789
END:VEVENT
END:VCALENDAR
