BEGIN:VCALENDAR
PRODID:-//github.com/rianjs/ical.net//NONSGML ical.net 4.0//EN
VERSION:2.0
BEGIN:VTIMEZONE
TZID:Pacific Standard Time
X-LIC-LOCATION:America/Los_Angeles
BEGIN:STANDARD
DTSTART:20241103T020000
RRULE:FREQ=YEARLY;BYDAY=1SU;BYMONTH=11
TZNAME:PST
TZOFFSETFROM:-0700
TZOFFSETTO:-0800
END:STANDARD
BEGIN:DAYLIGHT
DTSTART:20250309T020000
RRULE:FREQ=YEARLY;BYDAY=2SU;BYMONTH=3
TZNAME:PDT
TZOFFSETFROM:-0800
TZOFFSETTO:-0700
END:DAYLIGHT
END:VTIMEZONE
BEGIN:VEVENT
DESCRIPTION:2022 Annual Meeting by the American Academy of Neurology\n\nTi
 tle: ABF's Cure One\, Cure Many: Award Presentation\n\nAccess URL: https:
 //www.aan.com/msa/Public/Events/GetEventURL/15075\n\nLearn More About Thi
 s Event: https://www.aan.com/msa/Public/Events/Details/15075
DTEND;TZID=Pacific Standard Time:20220404T150000
DTSTAMP:20260424T054036Z
DTSTART;TZID=Pacific Standard Time:20220404T140000
LOCATION:https://www.aan.com/msa/Public/Events/GetEventURL/15075
SEQUENCE:0
SUMMARY:AAN: ABF's Cure One\, Cure Many: Award Presentation
UID:be027751-5171-465d-85e3-fb1600bffe1d
END:VEVENT
END:VCALENDAR
