BEGIN:VCALENDAR
PRODID:-//github.com/rianjs/ical.net//NONSGML ical.net 4.0//EN
VERSION:2.0
BEGIN:VTIMEZONE
TZID:Pacific Standard Time
X-LIC-LOCATION:America/Los_Angeles
BEGIN:STANDARD
DTSTART:20241103T020000
RRULE:FREQ=YEARLY;BYDAY=1SU;BYMONTH=11
TZNAME:PST
TZOFFSETFROM:-0700
TZOFFSETTO:-0800
END:STANDARD
BEGIN:DAYLIGHT
DTSTART:20250309T020000
RRULE:FREQ=YEARLY;BYDAY=2SU;BYMONTH=3
TZNAME:PDT
TZOFFSETFROM:-0800
TZOFFSETTO:-0700
END:DAYLIGHT
END:VTIMEZONE
BEGIN:VEVENT
DESCRIPTION:2022 Fall Conference by the American Academy of Neurology\n\nT
 itle: Neurology Update 5: Neuro-ophthalmology and Neurotoxicology\n\nAcce
 ss URL: https://www.aan.com/msa/Public/Events/GetEventURL/15196\n\nLearn 
 More About This Event: https://www.aan.com/msa/Public/Events/Details/1519
 6
DTEND;TZID=Pacific Standard Time:20221029T093000
DTSTAMP:20260424T054037Z
DTSTART;TZID=Pacific Standard Time:20221029T080000
LOCATION:https://www.aan.com/msa/Public/Events/GetEventURL/15196
SEQUENCE:0
SUMMARY:AAN: Neurology Update 5: Neuro-ophthalmology and Neurotoxicology
UID:dacbd6c8-2ce8-429e-b5a0-d0c7539b3613
END:VEVENT
END:VCALENDAR
