BEGIN:VCALENDAR
PRODID:-//github.com/rianjs/ical.net//NONSGML ical.net 4.0//EN
VERSION:2.0
BEGIN:VTIMEZONE
TZID:Pacific Standard Time
X-LIC-LOCATION:America/Los_Angeles
BEGIN:STANDARD
DTSTART:20241103T020000
RRULE:FREQ=YEARLY;BYDAY=1SU;BYMONTH=11
TZNAME:PST
TZOFFSETFROM:-0700
TZOFFSETTO:-0800
END:STANDARD
BEGIN:DAYLIGHT
DTSTART:20250309T020000
RRULE:FREQ=YEARLY;BYDAY=2SU;BYMONTH=3
TZNAME:PDT
TZOFFSETFROM:-0800
TZOFFSETTO:-0700
END:DAYLIGHT
END:VTIMEZONE
BEGIN:VEVENT
DESCRIPTION:2022 Fall Conference by the American Academy of Neurology\n\nT
 itle: Practice Management 1: Coding\n\nAccess URL: https://www.aan.com/ms
 a/Public/Events/GetEventURL/15202\n\nLearn More About This Event: https:/
 /www.aan.com/msa/Public/Events/Details/15202
DTEND;TZID=Pacific Standard Time:20221028T093000
DTSTAMP:20260424T054004Z
DTSTART;TZID=Pacific Standard Time:20221028T080000
LOCATION:https://www.aan.com/msa/Public/Events/GetEventURL/15202
SEQUENCE:0
SUMMARY:AAN: Practice Management 1: Coding
UID:ed5b75f7-cc02-4b8e-9df7-329d7d4fc9ab
END:VEVENT
END:VCALENDAR
