BEGIN:VCALENDAR
PRODID:-//github.com/rianjs/ical.net//NONSGML ical.net 4.0//EN
VERSION:2.0
BEGIN:VTIMEZONE
TZID:Pacific Standard Time
X-LIC-LOCATION:America/Los_Angeles
BEGIN:STANDARD
DTSTART:20241103T020000
RRULE:FREQ=YEARLY;BYDAY=1SU;BYMONTH=11
TZNAME:PST
TZOFFSETFROM:-0700
TZOFFSETTO:-0800
END:STANDARD
BEGIN:DAYLIGHT
DTSTART:20250309T020000
RRULE:FREQ=YEARLY;BYDAY=2SU;BYMONTH=3
TZNAME:PDT
TZOFFSETFROM:-0800
TZOFFSETTO:-0700
END:DAYLIGHT
END:VTIMEZONE
BEGIN:VEVENT
DESCRIPTION:2022 Fall Conference by the American Academy of Neurology\n\nT
 itle: Practice Management 2: Building Service Lines\n\nAccess URL: https:
 //www.aan.com/msa/Public/Events/GetEventURL/15203\n\nLearn More About Thi
 s Event: https://www.aan.com/msa/Public/Events/Details/15203
DTEND;TZID=Pacific Standard Time:20221028T113000
DTSTAMP:20260424T054210Z
DTSTART;TZID=Pacific Standard Time:20221028T100000
LOCATION:https://www.aan.com/msa/Public/Events/GetEventURL/15203
SEQUENCE:0
SUMMARY:AAN: Practice Management 2: Building Service Lines
UID:60b57933-e826-47bd-b6cf-88ffbe858f30
END:VEVENT
END:VCALENDAR
