BEGIN:VCALENDAR
PRODID:-//github.com/rianjs/ical.net//NONSGML ical.net 4.0//EN
VERSION:2.0
BEGIN:VTIMEZONE
TZID:Pacific Standard Time
X-LIC-LOCATION:America/Los_Angeles
BEGIN:STANDARD
DTSTART:20241103T020000
RRULE:FREQ=YEARLY;BYDAY=1SU;BYMONTH=11
TZNAME:PST
TZOFFSETFROM:-0700
TZOFFSETTO:-0800
END:STANDARD
BEGIN:DAYLIGHT
DTSTART:20250309T020000
RRULE:FREQ=YEARLY;BYDAY=2SU;BYMONTH=3
TZNAME:PDT
TZOFFSETFROM:-0800
TZOFFSETTO:-0700
END:DAYLIGHT
END:VTIMEZONE
BEGIN:VEVENT
DESCRIPTION:2022 Fall Conference by the American Academy of Neurology\n\nT
 itle: Neuromyelitis Optica Spectrum Disorders\n\nAccess URL: https://www.
 aan.com/msa/Public/Events/GetEventURL/15211\n\nLearn More About This Even
 t: https://www.aan.com/msa/Public/Events/Details/15211
DTEND;TZID=Pacific Standard Time:20221028T143000
DTSTAMP:20260424T053954Z
DTSTART;TZID=Pacific Standard Time:20221028T130000
LOCATION:https://www.aan.com/msa/Public/Events/GetEventURL/15211
SEQUENCE:0
SUMMARY:AAN: Neuromyelitis Optica Spectrum Disorders
UID:01b22488-91cb-4ed8-99e0-6eddd3dd2800
END:VEVENT
END:VCALENDAR
