BEGIN:VCALENDAR
PRODID:-//github.com/rianjs/ical.net//NONSGML ical.net 4.0//EN
VERSION:2.0
BEGIN:VTIMEZONE
TZID:Pacific Standard Time
X-LIC-LOCATION:America/Los_Angeles
BEGIN:STANDARD
DTSTART:20241103T020000
RRULE:FREQ=YEARLY;BYDAY=1SU;BYMONTH=11
TZNAME:PST
TZOFFSETFROM:-0700
TZOFFSETTO:-0800
END:STANDARD
BEGIN:DAYLIGHT
DTSTART:20250309T020000
RRULE:FREQ=YEARLY;BYDAY=2SU;BYMONTH=3
TZNAME:PDT
TZOFFSETFROM:-0800
TZOFFSETTO:-0700
END:DAYLIGHT
END:VTIMEZONE
BEGIN:VEVENT
DESCRIPTION:2022 Fall Conference by the American Academy of Neurology\n\nT
 itle: Treatment Approaches for Relapsing Multiple Sclerosis\n\nAccess URL
 : https://www.aan.com/msa/Public/Events/GetEventURL/15216\n\nLearn More A
 bout This Event: https://www.aan.com/msa/Public/Events/Details/15216
DTEND;TZID=Pacific Standard Time:20221030T110000
DTSTAMP:20260424T053954Z
DTSTART;TZID=Pacific Standard Time:20221030T093000
LOCATION:https://www.aan.com/msa/Public/Events/GetEventURL/15216
SEQUENCE:0
SUMMARY:AAN: Treatment Approaches for Relapsing Multiple Sclerosis
UID:b2f40ba6-a0d4-4354-9eb1-a6ef0e9f0400
END:VEVENT
END:VCALENDAR
