BEGIN:VCALENDAR
PRODID:-//github.com/rianjs/ical.net//NONSGML ical.net 4.0//EN
VERSION:2.0
BEGIN:VTIMEZONE
TZID:Pacific Standard Time
X-LIC-LOCATION:America/Los_Angeles
BEGIN:STANDARD
DTSTART:20241103T020000
RRULE:FREQ=YEARLY;BYDAY=1SU;BYMONTH=11
TZNAME:PST
TZOFFSETFROM:-0700
TZOFFSETTO:-0800
END:STANDARD
BEGIN:DAYLIGHT
DTSTART:20250309T020000
RRULE:FREQ=YEARLY;BYDAY=2SU;BYMONTH=3
TZNAME:PDT
TZOFFSETFROM:-0800
TZOFFSETTO:-0700
END:DAYLIGHT
END:VTIMEZONE
BEGIN:VEVENT
DESCRIPTION:2022 Fall Conference by the American Academy of Neurology\n\nT
 itle: Neuroscience in the Clinic: Applications of Artificial Intelligence
  and Machine Learning Tools in Neurology\n\nAccess URL: https://www.aan.c
 om/msa/Public/Events/GetEventURL/15224\n\nLearn More About This Event: ht
 tps://www.aan.com/msa/Public/Events/Details/15224
DTEND;TZID=Pacific Standard Time:20221029T093000
DTSTAMP:20260424T053953Z
DTSTART;TZID=Pacific Standard Time:20221029T080000
LOCATION:https://www.aan.com/msa/Public/Events/GetEventURL/15224
SEQUENCE:0
SUMMARY:AAN: Neuroscience in the Clinic: Applications of Artificial Intell
 igence and Machine Learning Tools in Neurology
UID:b02aa27b-3f90-4b01-b0b3-db4e2781ae29
END:VEVENT
END:VCALENDAR
