BEGIN:VCALENDAR
PRODID:-//github.com/rianjs/ical.net//NONSGML ical.net 4.0//EN
VERSION:2.0
BEGIN:VTIMEZONE
TZID:Pacific Standard Time
X-LIC-LOCATION:America/Los_Angeles
BEGIN:STANDARD
DTSTART:20241103T020000
RRULE:FREQ=YEARLY;BYDAY=1SU;BYMONTH=11
TZNAME:PST
TZOFFSETFROM:-0700
TZOFFSETTO:-0800
END:STANDARD
BEGIN:DAYLIGHT
DTSTART:20250309T020000
RRULE:FREQ=YEARLY;BYDAY=2SU;BYMONTH=3
TZNAME:PDT
TZOFFSETFROM:-0800
TZOFFSETTO:-0700
END:DAYLIGHT
END:VTIMEZONE
BEGIN:VEVENT
DESCRIPTION:2022 Fall Conference by the American Academy of Neurology\n\nT
 itle: Advanced Practice Provider Pre-conference: Techniques and Skills\n\
 nAccess URL: https://www.aan.com/msa/Public/Events/GetEventURL/15244\n\nL
 earn More About This Event: https://www.aan.com/msa/Public/Events/Details
 /15244
DTEND;TZID=Pacific Standard Time:20221027T173000
DTSTAMP:20260424T054209Z
DTSTART;TZID=Pacific Standard Time:20221027T130000
LOCATION:https://www.aan.com/msa/Public/Events/GetEventURL/15244
SEQUENCE:0
SUMMARY:AAN: Advanced Practice Provider Pre-conference: Techniques and Ski
 lls
UID:da3b3f22-c848-4000-b62c-76bf5e422272
END:VEVENT
END:VCALENDAR
