BEGIN:VCALENDAR
PRODID:-//github.com/rianjs/ical.net//NONSGML ical.net 4.0//EN
VERSION:2.0
BEGIN:VTIMEZONE
TZID:Pacific Standard Time
X-LIC-LOCATION:America/Los_Angeles
BEGIN:STANDARD
DTSTART:20241103T020000
RRULE:FREQ=YEARLY;BYDAY=1SU;BYMONTH=11
TZNAME:PST
TZOFFSETFROM:-0700
TZOFFSETTO:-0800
END:STANDARD
BEGIN:DAYLIGHT
DTSTART:20250309T020000
RRULE:FREQ=YEARLY;BYDAY=2SU;BYMONTH=3
TZNAME:PDT
TZOFFSETFROM:-0800
TZOFFSETTO:-0700
END:DAYLIGHT
END:VTIMEZONE
BEGIN:VEVENT
DESCRIPTION:2022 Fall Conference by the American Academy of Neurology\n\nT
 itle: Leading the Self—Knowing Who You Are and What You Want\n\nAccess UR
 L: https://www.aan.com/msa/Public/Events/GetEventURL/15247\n\nLearn More 
 About This Event: https://www.aan.com/msa/Public/Events/Details/15247
DTEND;TZID=Pacific Standard Time:20221028T093000
DTSTAMP:20260424T054103Z
DTSTART;TZID=Pacific Standard Time:20221028T080000
LOCATION:https://www.aan.com/msa/Public/Events/GetEventURL/15247
SEQUENCE:0
SUMMARY:AAN: Leading the Self—Knowing Who You Are and What You Want
UID:062a69fe-6e8d-4d0a-81e2-08d9ac1aa045
END:VEVENT
END:VCALENDAR
