BEGIN:VCALENDAR
PRODID:-//github.com/rianjs/ical.net//NONSGML ical.net 4.0//EN
VERSION:2.0
BEGIN:VTIMEZONE
TZID:Eastern Standard Time
X-LIC-LOCATION:America/New_York
BEGIN:STANDARD
DTSTART:20241103T020000
RRULE:FREQ=YEARLY;BYDAY=1SU;BYMONTH=11
TZNAME:EST
TZOFFSETFROM:-0400
TZOFFSETTO:-0500
END:STANDARD
BEGIN:DAYLIGHT
DTSTART:20250309T020000
RRULE:FREQ=YEARLY;BYDAY=2SU;BYMONTH=3
TZNAME:EDT
TZOFFSETFROM:-0500
TZOFFSETTO:-0400
END:DAYLIGHT
END:VTIMEZONE
BEGIN:VEVENT
DESCRIPTION:2023 Annual Meeting by the American Academy of Neurology\n\nTi
 tle: Essentials of Acute Treatment and Prevention of Ischemic Stroke\n\nA
 ccess URL: https://www.aan.com/msa/Public/Events/GetEventURL/15274\n\nLea
 rn More About This Event: https://www.aan.com/msa/Public/Events/Details/1
 5274
DTEND;TZID=Eastern Standard Time:20230422T164500
DTSTAMP:20260424T053453Z
DTSTART;TZID=Eastern Standard Time:20230422T144500
LOCATION:https://www.aan.com/msa/Public/Events/GetEventURL/15274
SEQUENCE:0
SUMMARY:AAN: Essentials of Acute Treatment and Prevention of Ischemic Stro
 ke
UID:d821f3a0-7a96-408f-9349-5fb2a1bc5579
END:VEVENT
END:VCALENDAR
