BEGIN:VCALENDAR
PRODID:-//github.com/rianjs/ical.net//NONSGML ical.net 4.0//EN
VERSION:2.0
BEGIN:VTIMEZONE
TZID:Eastern Standard Time
X-LIC-LOCATION:America/New_York
BEGIN:STANDARD
DTSTART:20241103T020000
RRULE:FREQ=YEARLY;BYDAY=1SU;BYMONTH=11
TZNAME:EST
TZOFFSETFROM:-0400
TZOFFSETTO:-0500
END:STANDARD
BEGIN:DAYLIGHT
DTSTART:20250309T020000
RRULE:FREQ=YEARLY;BYDAY=2SU;BYMONTH=3
TZNAME:EDT
TZOFFSETFROM:-0500
TZOFFSETTO:-0400
END:DAYLIGHT
END:VTIMEZONE
BEGIN:VEVENT
DESCRIPTION:2023 Annual Meeting by the American Academy of Neurology\n\nTi
 tle: Cutting-edge Concepts in Vascular Interventions and Rehab in Stroke\
 n\nAccess URL: https://www.aan.com/msa/Public/Events/GetEventURL/15280\n\
 nLearn More About This Event: https://www.aan.com/msa/Public/Events/Detai
 ls/15280
DTEND;TZID=Eastern Standard Time:20230425T090000
DTSTAMP:20260423T213426Z
DTSTART;TZID=Eastern Standard Time:20230425T070000
LOCATION:https://www.aan.com/msa/Public/Events/GetEventURL/15280
SEQUENCE:0
SUMMARY:AAN: Cutting-edge Concepts in Vascular Interventions and Rehab in 
 Stroke
UID:23e750c2-d7fa-4fd5-95c2-36c5358f5f3f
END:VEVENT
END:VCALENDAR
