BEGIN:VCALENDAR
PRODID:-//github.com/rianjs/ical.net//NONSGML ical.net 4.0//EN
VERSION:2.0
BEGIN:VTIMEZONE
TZID:Eastern Standard Time
X-LIC-LOCATION:America/New_York
BEGIN:STANDARD
DTSTART:20241103T020000
RRULE:FREQ=YEARLY;BYDAY=1SU;BYMONTH=11
TZNAME:EST
TZOFFSETFROM:-0400
TZOFFSETTO:-0500
END:STANDARD
BEGIN:DAYLIGHT
DTSTART:20250309T020000
RRULE:FREQ=YEARLY;BYDAY=2SU;BYMONTH=3
TZNAME:EDT
TZOFFSETFROM:-0500
TZOFFSETTO:-0400
END:DAYLIGHT
END:VTIMEZONE
BEGIN:VEVENT
DESCRIPTION:2023 Annual Meeting by the American Academy of Neurology\n\nTi
 tle: Child Neurology: Neuromuscular and Movement Disorders\n\nAccess URL:
  https://www.aan.com/msa/Public/Events/GetEventURL/15284\n\nLearn More Ab
 out This Event: https://www.aan.com/msa/Public/Events/Details/15284
DTEND;TZID=Eastern Standard Time:20230425T150000
DTSTAMP:20260424T053430Z
DTSTART;TZID=Eastern Standard Time:20230425T130000
LOCATION:https://www.aan.com/msa/Public/Events/GetEventURL/15284
SEQUENCE:0
SUMMARY:AAN: Child Neurology: Neuromuscular and Movement Disorders
UID:4a26085d-7e3c-4aeb-a110-ede3b79d99da
END:VEVENT
END:VCALENDAR
