BEGIN:VCALENDAR
PRODID:-//github.com/rianjs/ical.net//NONSGML ical.net 4.0//EN
VERSION:2.0
BEGIN:VTIMEZONE
TZID:Eastern Standard Time
X-LIC-LOCATION:America/New_York
BEGIN:STANDARD
DTSTART:20241103T020000
RRULE:FREQ=YEARLY;BYDAY=1SU;BYMONTH=11
TZNAME:EST
TZOFFSETFROM:-0400
TZOFFSETTO:-0500
END:STANDARD
BEGIN:DAYLIGHT
DTSTART:20250309T020000
RRULE:FREQ=YEARLY;BYDAY=2SU;BYMONTH=3
TZNAME:EDT
TZOFFSETFROM:-0500
TZOFFSETTO:-0400
END:DAYLIGHT
END:VTIMEZONE
BEGIN:VEVENT
DESCRIPTION:2023 Annual Meeting by the American Academy of Neurology\n\nTi
 tle: Integrating Virtual Teaching in a New Era of Medical Education\n\nAc
 cess URL: https://www.aan.com/msa/Public/Events/GetEventURL/15289\n\nLear
 n More About This Event: https://www.aan.com/msa/Public/Events/Details/15
 289
DTEND;TZID=Eastern Standard Time:20230426T173000
DTSTAMP:20260424T053604Z
DTSTART;TZID=Eastern Standard Time:20230426T153000
LOCATION:https://www.aan.com/msa/Public/Events/GetEventURL/15289
SEQUENCE:0
SUMMARY:AAN: Integrating Virtual Teaching in a New Era of Medical Education
UID:d993373b-7633-470b-83ab-30d5d7949bc7
END:VEVENT
END:VCALENDAR
