BEGIN:VCALENDAR
PRODID:-//github.com/rianjs/ical.net//NONSGML ical.net 4.0//EN
VERSION:2.0
BEGIN:VTIMEZONE
TZID:Eastern Standard Time
X-LIC-LOCATION:America/New_York
BEGIN:STANDARD
DTSTART:20241103T020000
RRULE:FREQ=YEARLY;BYDAY=1SU;BYMONTH=11
TZNAME:EST
TZOFFSETFROM:-0400
TZOFFSETTO:-0500
END:STANDARD
BEGIN:DAYLIGHT
DTSTART:20250309T020000
RRULE:FREQ=YEARLY;BYDAY=2SU;BYMONTH=3
TZNAME:EDT
TZOFFSETFROM:-0500
TZOFFSETTO:-0400
END:DAYLIGHT
END:VTIMEZONE
BEGIN:VEVENT
DESCRIPTION:2023 Annual Meeting by the American Academy of Neurology\n\nTi
 tle: EEG: Focal\, Diffuse\, and Epileptiform Abnormalities in Adults\n\nA
 ccess URL: https://www.aan.com/msa/Public/Events/GetEventURL/15290\n\nLea
 rn More About This Event: https://www.aan.com/msa/Public/Events/Details/1
 5290
DTEND;TZID=Eastern Standard Time:20230422T090000
DTSTAMP:20260424T053428Z
DTSTART;TZID=Eastern Standard Time:20230422T070000
LOCATION:https://www.aan.com/msa/Public/Events/GetEventURL/15290
SEQUENCE:0
SUMMARY:AAN: EEG: Focal\, Diffuse\, and Epileptiform Abnormalities in Adul
 ts
UID:c49e4abe-81e2-4d3f-882c-4c3fed606e9f
END:VEVENT
END:VCALENDAR
