BEGIN:VCALENDAR
PRODID:-//github.com/rianjs/ical.net//NONSGML ical.net 4.0//EN
VERSION:2.0
BEGIN:VTIMEZONE
TZID:Eastern Standard Time
X-LIC-LOCATION:America/New_York
BEGIN:STANDARD
DTSTART:20241103T020000
RRULE:FREQ=YEARLY;BYDAY=1SU;BYMONTH=11
TZNAME:EST
TZOFFSETFROM:-0400
TZOFFSETTO:-0500
END:STANDARD
BEGIN:DAYLIGHT
DTSTART:20250309T020000
RRULE:FREQ=YEARLY;BYDAY=2SU;BYMONTH=3
TZNAME:EDT
TZOFFSETFROM:-0500
TZOFFSETTO:-0400
END:DAYLIGHT
END:VTIMEZONE
BEGIN:VEVENT
DESCRIPTION:2023 Annual Meeting by the American Academy of Neurology\n\nTi
 tle: Epilepsy: Basics and Considerations Across the Age Span: Pediatrics\
 , Pregnancy\, Elderly\, and Special Populations\n\nAccess URL: https://ww
 w.aan.com/msa/Public/Events/GetEventURL/15293\n\nLearn More About This Ev
 ent: https://www.aan.com/msa/Public/Events/Details/15293
DTEND;TZID=Eastern Standard Time:20230424T150000
DTSTAMP:20260424T053604Z
DTSTART;TZID=Eastern Standard Time:20230424T130000
LOCATION:https://www.aan.com/msa/Public/Events/GetEventURL/15293
SEQUENCE:0
SUMMARY:AAN: Epilepsy: Basics and Considerations Across the Age Span: Pedi
 atrics\, Pregnancy\, Elderly\, and Special Populations
UID:4ba453bf-d24e-4919-90b5-f86c11d10b7a
END:VEVENT
END:VCALENDAR
