BEGIN:VCALENDAR
PRODID:-//github.com/rianjs/ical.net//NONSGML ical.net 4.0//EN
VERSION:2.0
BEGIN:VTIMEZONE
TZID:Eastern Standard Time
X-LIC-LOCATION:America/New_York
BEGIN:STANDARD
DTSTART:20241103T020000
RRULE:FREQ=YEARLY;BYDAY=1SU;BYMONTH=11
TZNAME:EST
TZOFFSETFROM:-0400
TZOFFSETTO:-0500
END:STANDARD
BEGIN:DAYLIGHT
DTSTART:20250309T020000
RRULE:FREQ=YEARLY;BYDAY=2SU;BYMONTH=3
TZNAME:EDT
TZOFFSETFROM:-0500
TZOFFSETTO:-0400
END:DAYLIGHT
END:VTIMEZONE
BEGIN:VEVENT
DESCRIPTION:2023 Annual Meeting by the American Academy of Neurology\n\nTi
 tle: Movement Disorders: Huntington's Disease\n\nAccess URL: https://www.
 aan.com/msa/Public/Events/GetEventURL/15304\n\nLearn More About This Even
 t: https://www.aan.com/msa/Public/Events/Details/15304
DTEND;TZID=Eastern Standard Time:20230422T141500
DTSTAMP:20260424T053301Z
DTSTART;TZID=Eastern Standard Time:20230422T121500
LOCATION:https://www.aan.com/msa/Public/Events/GetEventURL/15304
SEQUENCE:0
SUMMARY:AAN: Movement Disorders: Huntington's Disease
UID:381f494d-d457-4eec-ba5f-76159d7f888b
END:VEVENT
END:VCALENDAR
