BEGIN:VCALENDAR
PRODID:-//github.com/rianjs/ical.net//NONSGML ical.net 4.0//EN
VERSION:2.0
BEGIN:VTIMEZONE
TZID:Eastern Standard Time
X-LIC-LOCATION:America/New_York
BEGIN:STANDARD
DTSTART:20241103T020000
RRULE:FREQ=YEARLY;BYDAY=1SU;BYMONTH=11
TZNAME:EST
TZOFFSETFROM:-0400
TZOFFSETTO:-0500
END:STANDARD
BEGIN:DAYLIGHT
DTSTART:20250309T020000
RRULE:FREQ=YEARLY;BYDAY=2SU;BYMONTH=3
TZNAME:EDT
TZOFFSETFROM:-0500
TZOFFSETTO:-0400
END:DAYLIGHT
END:VTIMEZONE
BEGIN:VEVENT
DESCRIPTION:2023 Annual Meeting by the American Academy of Neurology\n\nTi
 tle: Skills Workshop: Deep Brain Stimulation for Movement Disorders\n\nAc
 cess URL: https://www.aan.com/msa/Public/Events/GetEventURL/15306\n\nLear
 n More About This Event: https://www.aan.com/msa/Public/Events/Details/15
 306
DTEND;TZID=Eastern Standard Time:20230422T164500
DTSTAMP:20260424T070523Z
DTSTART;TZID=Eastern Standard Time:20230422T121500
LOCATION:https://www.aan.com/msa/Public/Events/GetEventURL/15306
SEQUENCE:0
SUMMARY:AAN: Skills Workshop: Deep Brain Stimulation for Movement Disorders
UID:98d07e9b-b002-4985-903b-f2e2152c6b6e
END:VEVENT
END:VCALENDAR
