BEGIN:VCALENDAR
PRODID:-//github.com/rianjs/ical.net//NONSGML ical.net 4.0//EN
VERSION:2.0
BEGIN:VTIMEZONE
TZID:Eastern Standard Time
X-LIC-LOCATION:America/New_York
BEGIN:STANDARD
DTSTART:20241103T020000
RRULE:FREQ=YEARLY;BYDAY=1SU;BYMONTH=11
TZNAME:EST
TZOFFSETFROM:-0400
TZOFFSETTO:-0500
END:STANDARD
BEGIN:DAYLIGHT
DTSTART:20250309T020000
RRULE:FREQ=YEARLY;BYDAY=2SU;BYMONTH=3
TZNAME:EDT
TZOFFSETFROM:-0500
TZOFFSETTO:-0400
END:DAYLIGHT
END:VTIMEZONE
BEGIN:VEVENT
DESCRIPTION:2023 Annual Meeting by the American Academy of Neurology\n\nTi
 tle: Case Studies: Diagnosis and Management of Unusual Cases in Neuromusc
 ular Disease\n\nAccess URL: https://www.aan.com/msa/Public/Events/GetEven
 tURL/15313\n\nLearn More About This Event: https://www.aan.com/msa/Public
 /Events/Details/15313
DTEND;TZID=Eastern Standard Time:20230422T203000
DTSTAMP:20260424T053510Z
DTSTART;TZID=Eastern Standard Time:20230422T183000
LOCATION:https://www.aan.com/msa/Public/Events/GetEventURL/15313
SEQUENCE:0
SUMMARY:AAN: Case Studies: Diagnosis and Management of Unusual Cases in Ne
 uromuscular Disease
UID:340a3f76-37ec-4baa-bcf4-0d0b92ee5851
END:VEVENT
END:VCALENDAR
