BEGIN:VCALENDAR
PRODID:-//github.com/rianjs/ical.net//NONSGML ical.net 4.0//EN
VERSION:2.0
BEGIN:VTIMEZONE
TZID:Eastern Standard Time
X-LIC-LOCATION:America/New_York
BEGIN:STANDARD
DTSTART:20241103T020000
RRULE:FREQ=YEARLY;BYDAY=1SU;BYMONTH=11
TZNAME:EST
TZOFFSETFROM:-0400
TZOFFSETTO:-0500
END:STANDARD
BEGIN:DAYLIGHT
DTSTART:20250309T020000
RRULE:FREQ=YEARLY;BYDAY=2SU;BYMONTH=3
TZNAME:EDT
TZOFFSETFROM:-0500
TZOFFSETTO:-0400
END:DAYLIGHT
END:VTIMEZONE
BEGIN:VEVENT
DESCRIPTION:2023 Annual Meeting by the American Academy of Neurology\n\nTi
 tle: Meeting the Moment: Mastering Difficult Conversations in Serious Neu
 rologic Illness\n\nAccess URL: https://www.aan.com/msa/Public/Events/GetE
 ventURL/15317\n\nLearn More About This Event: https://www.aan.com/msa/Pub
 lic/Events/Details/15317
DTEND;TZID=Eastern Standard Time:20230423T150000
DTSTAMP:20260423T214038Z
DTSTART;TZID=Eastern Standard Time:20230423T130000
LOCATION:https://www.aan.com/msa/Public/Events/GetEventURL/15317
SEQUENCE:0
SUMMARY:AAN: Meeting the Moment: Mastering Difficult Conversations in Seri
 ous Neurologic Illness
UID:71b0ee2b-7ea2-471a-aef7-56efcc3f0f97
END:VEVENT
END:VCALENDAR
