BEGIN:VCALENDAR
PRODID:-//github.com/rianjs/ical.net//NONSGML ical.net 4.0//EN
VERSION:2.0
BEGIN:VTIMEZONE
TZID:Eastern Standard Time
X-LIC-LOCATION:America/New_York
BEGIN:STANDARD
DTSTART:20241103T020000
RRULE:FREQ=YEARLY;BYDAY=1SU;BYMONTH=11
TZNAME:EST
TZOFFSETFROM:-0400
TZOFFSETTO:-0500
END:STANDARD
BEGIN:DAYLIGHT
DTSTART:20250309T020000
RRULE:FREQ=YEARLY;BYDAY=2SU;BYMONTH=3
TZNAME:EDT
TZOFFSETFROM:-0500
TZOFFSETTO:-0400
END:DAYLIGHT
END:VTIMEZONE
BEGIN:VEVENT
DESCRIPTION:2023 Annual Meeting by the American Academy of Neurology\n\nTi
 tle: United We Stand: Enhancing Your Practice with APPs\n\nAccess URL: ht
 tps://www.aan.com/msa/Public/Events/GetEventURL/15318\n\nLearn More About
  This Event: https://www.aan.com/msa/Public/Events/Details/15318
DTEND;TZID=Eastern Standard Time:20230423T090000
DTSTAMP:20260424T053512Z
DTSTART;TZID=Eastern Standard Time:20230423T070000
LOCATION:https://www.aan.com/msa/Public/Events/GetEventURL/15318
SEQUENCE:0
SUMMARY:AAN: United We Stand: Enhancing Your Practice with APPs
UID:9567b47c-5fa0-47f6-b1f7-7a2905554f86
END:VEVENT
END:VCALENDAR
