BEGIN:VCALENDAR
PRODID:-//github.com/rianjs/ical.net//NONSGML ical.net 4.0//EN
VERSION:2.0
BEGIN:VTIMEZONE
TZID:Eastern Standard Time
X-LIC-LOCATION:America/New_York
BEGIN:STANDARD
DTSTART:20241103T020000
RRULE:FREQ=YEARLY;BYDAY=1SU;BYMONTH=11
TZNAME:EST
TZOFFSETFROM:-0400
TZOFFSETTO:-0500
END:STANDARD
BEGIN:DAYLIGHT
DTSTART:20250309T020000
RRULE:FREQ=YEARLY;BYDAY=2SU;BYMONTH=3
TZNAME:EDT
TZOFFSETFROM:-0500
TZOFFSETTO:-0400
END:DAYLIGHT
END:VTIMEZONE
BEGIN:VEVENT
DESCRIPTION:2023 Annual Meeting by the American Academy of Neurology\n\nTi
 tle: Clinical EMG 1: Principles and Practice of NCS and Needle EMG\n\nAcc
 ess URL: https://www.aan.com/msa/Public/Events/GetEventURL/15320\n\nLearn
  More About This Event: https://www.aan.com/msa/Public/Events/Details/153
 20
DTEND;TZID=Eastern Standard Time:20230423T150000
DTSTAMP:20260423T213325Z
DTSTART;TZID=Eastern Standard Time:20230423T130000
LOCATION:https://www.aan.com/msa/Public/Events/GetEventURL/15320
SEQUENCE:0
SUMMARY:AAN: Clinical EMG 1: Principles and Practice of NCS and Needle EMG
UID:e5684be7-319a-4c62-ad6f-08f99959024a
END:VEVENT
END:VCALENDAR
