BEGIN:VCALENDAR
PRODID:-//github.com/rianjs/ical.net//NONSGML ical.net 4.0//EN
VERSION:2.0
BEGIN:VTIMEZONE
TZID:Eastern Standard Time
X-LIC-LOCATION:America/New_York
BEGIN:STANDARD
DTSTART:20241103T020000
RRULE:FREQ=YEARLY;BYDAY=1SU;BYMONTH=11
TZNAME:EST
TZOFFSETFROM:-0400
TZOFFSETTO:-0500
END:STANDARD
BEGIN:DAYLIGHT
DTSTART:20250309T020000
RRULE:FREQ=YEARLY;BYDAY=2SU;BYMONTH=3
TZNAME:EDT
TZOFFSETFROM:-0500
TZOFFSETTO:-0400
END:DAYLIGHT
END:VTIMEZONE
BEGIN:VEVENT
DESCRIPTION:2023 Annual Meeting by the American Academy of Neurology\n\nTi
 tle: Cervical Spondylotic Myelopathy\, Cervical Radiculopathy\, and the D
 ifferential Diagnosis of Myelopathies\n\nAccess URL: https://www.aan.com/
 msa/Public/Events/GetEventURL/15323\n\nLearn More About This Event: https
 ://www.aan.com/msa/Public/Events/Details/15323
DTEND;TZID=Eastern Standard Time:20230423T150000
DTSTAMP:20260423T214039Z
DTSTART;TZID=Eastern Standard Time:20230423T130000
LOCATION:https://www.aan.com/msa/Public/Events/GetEventURL/15323
SEQUENCE:0
SUMMARY:AAN: Cervical Spondylotic Myelopathy\, Cervical Radiculopathy\, an
 d the Differential Diagnosis of Myelopathies
UID:9b131ee6-0fcf-4ecf-a691-ddbb7377c916
END:VEVENT
END:VCALENDAR
