BEGIN:VCALENDAR
PRODID:-//github.com/rianjs/ical.net//NONSGML ical.net 4.0//EN
VERSION:2.0
BEGIN:VTIMEZONE
TZID:Eastern Standard Time
X-LIC-LOCATION:America/New_York
BEGIN:STANDARD
DTSTART:20241103T020000
RRULE:FREQ=YEARLY;BYDAY=1SU;BYMONTH=11
TZNAME:EST
TZOFFSETFROM:-0400
TZOFFSETTO:-0500
END:STANDARD
BEGIN:DAYLIGHT
DTSTART:20250309T020000
RRULE:FREQ=YEARLY;BYDAY=2SU;BYMONTH=3
TZNAME:EDT
TZOFFSETFROM:-0500
TZOFFSETTO:-0400
END:DAYLIGHT
END:VTIMEZONE
BEGIN:VEVENT
DESCRIPTION:2023 Annual Meeting by the American Academy of Neurology\n\nTi
 tle: Skills Workshop: Brain Death: How to Perform a Brain Death Evaluatio
 n\, Avoid Pitfalls\, and Convey the News to the Family\n\nAccess URL: htt
 ps://www.aan.com/msa/Public/Events/GetEventURL/15325\n\nLearn More About 
 This Event: https://www.aan.com/msa/Public/Events/Details/15325
DTEND;TZID=Eastern Standard Time:20230423T173000
DTSTAMP:20260424T053511Z
DTSTART;TZID=Eastern Standard Time:20230423T130000
LOCATION:https://www.aan.com/msa/Public/Events/GetEventURL/15325
SEQUENCE:0
SUMMARY:AAN: Skills Workshop: Brain Death: How to Perform a Brain Death Ev
 aluation\, Avoid Pitfalls\, and Convey the News to the Family
UID:13859b62-0db5-4cc1-8f8c-6f4eb1d26594
END:VEVENT
END:VCALENDAR
