BEGIN:VCALENDAR
PRODID:-//github.com/rianjs/ical.net//NONSGML ical.net 4.0//EN
VERSION:2.0
BEGIN:VTIMEZONE
TZID:Eastern Standard Time
X-LIC-LOCATION:America/New_York
BEGIN:STANDARD
DTSTART:20241103T020000
RRULE:FREQ=YEARLY;BYDAY=1SU;BYMONTH=11
TZNAME:EST
TZOFFSETFROM:-0400
TZOFFSETTO:-0500
END:STANDARD
BEGIN:DAYLIGHT
DTSTART:20250309T020000
RRULE:FREQ=YEARLY;BYDAY=2SU;BYMONTH=3
TZNAME:EDT
TZOFFSETFROM:-0500
TZOFFSETTO:-0400
END:DAYLIGHT
END:VTIMEZONE
BEGIN:VEVENT
DESCRIPTION:2023 Annual Meeting by the American Academy of Neurology\n\nTi
 tle: Neurologic Intensive Care: Brain and Acute Spinal Cord Injury and Ne
 uromuscular Disease\n\nAccess URL: https://www.aan.com/msa/Public/Events/
 GetEventURL/15333\n\nLearn More About This Event: https://www.aan.com/msa
 /Public/Events/Details/15333
DTEND;TZID=Eastern Standard Time:20230424T090000
DTSTAMP:20260424T070523Z
DTSTART;TZID=Eastern Standard Time:20230424T070000
LOCATION:https://www.aan.com/msa/Public/Events/GetEventURL/15333
SEQUENCE:0
SUMMARY:AAN: Neurologic Intensive Care: Brain and Acute Spinal Cord Injury
  and Neuromuscular Disease
UID:b6e1abe0-89bb-41c1-b0d6-49295179099e
END:VEVENT
END:VCALENDAR
