BEGIN:VCALENDAR
PRODID:-//github.com/rianjs/ical.net//NONSGML ical.net 4.0//EN
VERSION:2.0
BEGIN:VTIMEZONE
TZID:Eastern Standard Time
X-LIC-LOCATION:America/New_York
BEGIN:STANDARD
DTSTART:20241103T020000
RRULE:FREQ=YEARLY;BYDAY=1SU;BYMONTH=11
TZNAME:EST
TZOFFSETFROM:-0400
TZOFFSETTO:-0500
END:STANDARD
BEGIN:DAYLIGHT
DTSTART:20250309T020000
RRULE:FREQ=YEARLY;BYDAY=2SU;BYMONTH=3
TZNAME:EDT
TZOFFSETFROM:-0500
TZOFFSETTO:-0400
END:DAYLIGHT
END:VTIMEZONE
BEGIN:VEVENT
DESCRIPTION:2023 Annual Meeting by the American Academy of Neurology\n\nTi
 tle: Update in Movement Disorders: Essential Tremor/Ataxia/Hyperkinetic M
 ovement Disorders\n\nAccess URL: https://www.aan.com/msa/Public/Events/Ge
 tEventURL/15343\n\nLearn More About This Event: https://www.aan.com/msa/P
 ublic/Events/Details/15343
DTEND;TZID=Eastern Standard Time:20230424T173000
DTSTAMP:20260424T053353Z
DTSTART;TZID=Eastern Standard Time:20230424T153000
LOCATION:https://www.aan.com/msa/Public/Events/GetEventURL/15343
SEQUENCE:0
SUMMARY:AAN: Update in Movement Disorders: Essential Tremor/Ataxia/Hyperki
 netic Movement Disorders
UID:62a6eee9-768a-4a0d-b37e-607df8f09a8f
END:VEVENT
END:VCALENDAR
