BEGIN:VCALENDAR
PRODID:-//github.com/rianjs/ical.net//NONSGML ical.net 4.0//EN
VERSION:2.0
BEGIN:VTIMEZONE
TZID:Eastern Standard Time
X-LIC-LOCATION:America/New_York
BEGIN:STANDARD
DTSTART:20241103T020000
RRULE:FREQ=YEARLY;BYDAY=1SU;BYMONTH=11
TZNAME:EST
TZOFFSETFROM:-0400
TZOFFSETTO:-0500
END:STANDARD
BEGIN:DAYLIGHT
DTSTART:20250309T020000
RRULE:FREQ=YEARLY;BYDAY=2SU;BYMONTH=3
TZNAME:EDT
TZOFFSETFROM:-0500
TZOFFSETTO:-0400
END:DAYLIGHT
END:VTIMEZONE
BEGIN:VEVENT
DESCRIPTION:2023 Annual Meeting by the American Academy of Neurology\n\nTi
 tle: Multiple Sclerosis Disease-modifying Treatment\n\nAccess URL: https:
 //www.aan.com/msa/Public/Events/GetEventURL/15345\n\nLearn More About Thi
 s Event: https://www.aan.com/msa/Public/Events/Details/15345
DTEND;TZID=Eastern Standard Time:20230424T173000
DTSTAMP:20260423T213943Z
DTSTART;TZID=Eastern Standard Time:20230424T153000
LOCATION:https://www.aan.com/msa/Public/Events/GetEventURL/15345
SEQUENCE:0
SUMMARY:AAN: Multiple Sclerosis Disease-modifying Treatment
UID:e9741e2e-c8ee-4f17-89b4-aa8a8adbd4a4
END:VEVENT
END:VCALENDAR
