BEGIN:VCALENDAR
PRODID:-//github.com/rianjs/ical.net//NONSGML ical.net 4.0//EN
VERSION:2.0
BEGIN:VTIMEZONE
TZID:Eastern Standard Time
X-LIC-LOCATION:America/New_York
BEGIN:STANDARD
DTSTART:20241103T020000
RRULE:FREQ=YEARLY;BYDAY=1SU;BYMONTH=11
TZNAME:EST
TZOFFSETFROM:-0400
TZOFFSETTO:-0500
END:STANDARD
BEGIN:DAYLIGHT
DTSTART:20250309T020000
RRULE:FREQ=YEARLY;BYDAY=2SU;BYMONTH=3
TZNAME:EDT
TZOFFSETFROM:-0500
TZOFFSETTO:-0400
END:DAYLIGHT
END:VTIMEZONE
BEGIN:VEVENT
DESCRIPTION:2023 Annual Meeting by the American Academy of Neurology\n\nTi
 tle: MS Across the Lifespan/Pregnancy and Breastfeeding in MS\n\nAccess U
 RL: https://www.aan.com/msa/Public/Events/GetEventURL/15349\n\nLearn More
  About This Event: https://www.aan.com/msa/Public/Events/Details/15349
DTEND;TZID=Eastern Standard Time:20230425T090000
DTSTAMP:20260424T053454Z
DTSTART;TZID=Eastern Standard Time:20230425T070000
LOCATION:https://www.aan.com/msa/Public/Events/GetEventURL/15349
SEQUENCE:0
SUMMARY:AAN: MS Across the Lifespan/Pregnancy and Breastfeeding in MS
UID:f79b9a98-e270-4eee-9e6f-2c90d8d56e89
END:VEVENT
END:VCALENDAR
