BEGIN:VCALENDAR
PRODID:-//github.com/rianjs/ical.net//NONSGML ical.net 4.0//EN
VERSION:2.0
BEGIN:VTIMEZONE
TZID:Eastern Standard Time
X-LIC-LOCATION:America/New_York
BEGIN:STANDARD
DTSTART:20241103T020000
RRULE:FREQ=YEARLY;BYDAY=1SU;BYMONTH=11
TZNAME:EST
TZOFFSETFROM:-0400
TZOFFSETTO:-0500
END:STANDARD
BEGIN:DAYLIGHT
DTSTART:20250309T020000
RRULE:FREQ=YEARLY;BYDAY=2SU;BYMONTH=3
TZNAME:EDT
TZOFFSETFROM:-0500
TZOFFSETTO:-0400
END:DAYLIGHT
END:VTIMEZONE
BEGIN:VEVENT
DESCRIPTION:2023 Annual Meeting by the American Academy of Neurology\n\nTi
 tle: Sleep Apnea\n\nAccess URL: https://www.aan.com/msa/Public/Events/Get
 EventURL/15359\n\nLearn More About This Event: https://www.aan.com/msa/Pu
 blic/Events/Details/15359
DTEND;TZID=Eastern Standard Time:20230425T173000
DTSTAMP:20260424T070432Z
DTSTART;TZID=Eastern Standard Time:20230425T153000
LOCATION:https://www.aan.com/msa/Public/Events/GetEventURL/15359
SEQUENCE:0
SUMMARY:AAN: Sleep Apnea
UID:95f665b4-8037-4c88-92f3-3c8dcd08f03e
END:VEVENT
END:VCALENDAR
