BEGIN:VCALENDAR
PRODID:-//github.com/rianjs/ical.net//NONSGML ical.net 4.0//EN
VERSION:2.0
BEGIN:VTIMEZONE
TZID:Eastern Standard Time
X-LIC-LOCATION:America/New_York
BEGIN:STANDARD
DTSTART:20241103T020000
RRULE:FREQ=YEARLY;BYDAY=1SU;BYMONTH=11
TZNAME:EST
TZOFFSETFROM:-0400
TZOFFSETTO:-0500
END:STANDARD
BEGIN:DAYLIGHT
DTSTART:20250309T020000
RRULE:FREQ=YEARLY;BYDAY=2SU;BYMONTH=3
TZNAME:EDT
TZOFFSETFROM:-0500
TZOFFSETTO:-0400
END:DAYLIGHT
END:VTIMEZONE
BEGIN:VEVENT
DESCRIPTION:2023 Annual Meeting by the American Academy of Neurology\n\nTi
 tle: Neuro-ophthalmology 1: Visual Loss\, Optic Neuropathies\, and Papill
 edema\n\nAccess URL: https://www.aan.com/msa/Public/Events/GetEventURL/15
 364\n\nLearn More About This Event: https://www.aan.com/msa/Public/Events
 /Details/15364
DTEND;TZID=Eastern Standard Time:20230426T090000
DTSTAMP:20260423T213901Z
DTSTART;TZID=Eastern Standard Time:20230426T070000
LOCATION:https://www.aan.com/msa/Public/Events/GetEventURL/15364
SEQUENCE:0
SUMMARY:AAN: Neuro-ophthalmology 1: Visual Loss\, Optic Neuropathies\, and
  Papilledema
UID:42617e55-0f0d-4a26-a19f-14617bebee22
END:VEVENT
END:VCALENDAR
