BEGIN:VCALENDAR
PRODID:-//github.com/rianjs/ical.net//NONSGML ical.net 4.0//EN
VERSION:2.0
BEGIN:VTIMEZONE
TZID:Eastern Standard Time
X-LIC-LOCATION:America/New_York
BEGIN:STANDARD
DTSTART:20241103T020000
RRULE:FREQ=YEARLY;BYDAY=1SU;BYMONTH=11
TZNAME:EST
TZOFFSETFROM:-0400
TZOFFSETTO:-0500
END:STANDARD
BEGIN:DAYLIGHT
DTSTART:20250309T020000
RRULE:FREQ=YEARLY;BYDAY=2SU;BYMONTH=3
TZNAME:EDT
TZOFFSETFROM:-0500
TZOFFSETTO:-0400
END:DAYLIGHT
END:VTIMEZONE
BEGIN:VEVENT
DESCRIPTION:2023 Annual Meeting by the American Academy of Neurology\n\nTi
 tle: Neurologic Complications of Novel Anti-neoplastic Therapies Includin
 g Immunotherapy\n\nAccess URL: https://www.aan.com/msa/Public/Events/GetE
 ventURL/15368\n\nLearn More About This Event: https://www.aan.com/msa/Pub
 lic/Events/Details/15368
DTEND;TZID=Eastern Standard Time:20230426T150000
DTSTAMP:20260424T053454Z
DTSTART;TZID=Eastern Standard Time:20230426T130000
LOCATION:https://www.aan.com/msa/Public/Events/GetEventURL/15368
SEQUENCE:0
SUMMARY:AAN: Neurologic Complications of Novel Anti-neoplastic Therapies I
 ncluding Immunotherapy
UID:53b7504e-b2b0-4161-b2fb-ab2c9af54032
END:VEVENT
END:VCALENDAR
