BEGIN:VCALENDAR
PRODID:-//github.com/rianjs/ical.net//NONSGML ical.net 4.0//EN
VERSION:2.0
BEGIN:VTIMEZONE
TZID:Eastern Standard Time
X-LIC-LOCATION:America/New_York
BEGIN:STANDARD
DTSTART:20241103T020000
RRULE:FREQ=YEARLY;BYDAY=1SU;BYMONTH=11
TZNAME:EST
TZOFFSETFROM:-0400
TZOFFSETTO:-0500
END:STANDARD
BEGIN:DAYLIGHT
DTSTART:20250309T020000
RRULE:FREQ=YEARLY;BYDAY=2SU;BYMONTH=3
TZNAME:EDT
TZOFFSETFROM:-0500
TZOFFSETTO:-0400
END:DAYLIGHT
END:VTIMEZONE
BEGIN:VEVENT
DESCRIPTION:2023 Annual Meeting by the American Academy of Neurology\n\nTi
 tle: Neuromuscular Junction Disorders: Myasthenia Gravis\, Ocular\, and M
 uSK Myasthenia\n\nAccess URL: https://www.aan.com/msa/Public/Events/GetEv
 entURL/15376\n\nLearn More About This Event: https://www.aan.com/msa/Publ
 ic/Events/Details/15376
DTEND;TZID=Eastern Standard Time:20230426T173000
DTSTAMP:20260424T053203Z
DTSTART;TZID=Eastern Standard Time:20230426T153000
LOCATION:https://www.aan.com/msa/Public/Events/GetEventURL/15376
SEQUENCE:0
SUMMARY:AAN: Neuromuscular Junction Disorders: Myasthenia Gravis\, Ocular\
 , and MuSK Myasthenia
UID:8e2eaca0-14b6-4e34-bd31-fe7f94e8fa7d
END:VEVENT
END:VCALENDAR
