BEGIN:VCALENDAR
PRODID:-//github.com/rianjs/ical.net//NONSGML ical.net 4.0//EN
VERSION:2.0
BEGIN:VTIMEZONE
TZID:Eastern Standard Time
X-LIC-LOCATION:America/New_York
BEGIN:STANDARD
DTSTART:20241103T020000
RRULE:FREQ=YEARLY;BYDAY=1SU;BYMONTH=11
TZNAME:EST
TZOFFSETFROM:-0400
TZOFFSETTO:-0500
END:STANDARD
BEGIN:DAYLIGHT
DTSTART:20250309T020000
RRULE:FREQ=YEARLY;BYDAY=2SU;BYMONTH=3
TZNAME:EDT
TZOFFSETFROM:-0500
TZOFFSETTO:-0400
END:DAYLIGHT
END:VTIMEZONE
BEGIN:VEVENT
DESCRIPTION:2023 Annual Meeting by the American Academy of Neurology\n\nTi
 tle: Peripheral Neuropathy: Neuropathies Associated with Rheumatologic an
 d Hematologic Disorders\n\nAccess URL: https://www.aan.com/msa/Public/Eve
 nts/GetEventURL/15385\n\nLearn More About This Event: https://www.aan.com
 /msa/Public/Events/Details/15385
DTEND;TZID=Eastern Standard Time:20230427T150000
DTSTAMP:20260424T070432Z
DTSTART;TZID=Eastern Standard Time:20230427T130000
LOCATION:https://www.aan.com/msa/Public/Events/GetEventURL/15385
SEQUENCE:0
SUMMARY:AAN: Peripheral Neuropathy: Neuropathies Associated with Rheumatol
 ogic and Hematologic Disorders
UID:2ee0b520-a959-4928-a982-d3b0a837ae96
END:VEVENT
END:VCALENDAR
