BEGIN:VCALENDAR
PRODID:-//github.com/rianjs/ical.net//NONSGML ical.net 4.0//EN
VERSION:2.0
BEGIN:VTIMEZONE
TZID:Eastern Standard Time
X-LIC-LOCATION:America/New_York
BEGIN:STANDARD
DTSTART:20241103T020000
RRULE:FREQ=YEARLY;BYDAY=1SU;BYMONTH=11
TZNAME:EST
TZOFFSETFROM:-0400
TZOFFSETTO:-0500
END:STANDARD
BEGIN:DAYLIGHT
DTSTART:20250309T020000
RRULE:FREQ=YEARLY;BYDAY=2SU;BYMONTH=3
TZNAME:EDT
TZOFFSETFROM:-0500
TZOFFSETTO:-0400
END:DAYLIGHT
END:VTIMEZONE
BEGIN:VEVENT
DESCRIPTION:2023 Annual Meeting by the American Academy of Neurology\n\nTi
 tle: Specialty Population Sleep Disorders\n\nAccess URL: https://www.aan.
 com/msa/Public/Events/GetEventURL/15386\n\nLearn More About This Event: h
 ttps://www.aan.com/msa/Public/Events/Details/15386
DTEND;TZID=Eastern Standard Time:20230427T150000
DTSTAMP:20260424T053510Z
DTSTART;TZID=Eastern Standard Time:20230427T130000
LOCATION:https://www.aan.com/msa/Public/Events/GetEventURL/15386
SEQUENCE:0
SUMMARY:AAN: Specialty Population Sleep Disorders
UID:131274f1-4827-4f6f-a6fd-3f48bdbd7011
END:VEVENT
END:VCALENDAR
